

BEGIN:VCALENDAR
VERSION:2.0
PRODID:-//UDC Suisse //NONSGML Events //EN
CALSCALE:GREGORIAN
X-WR-CALNAME:UDC Suisse
BEGIN:VEVENT
CREATED:20140304T144200Z
UID:7942
DTEND:20140209T000000
DTSTART:20140209T000000
DTSTAMP:20260421T094156Z
LOCATION:
DESCRIPTION:
SUMMARY:Votations populaires du 9 février 2014
ORGANIZER:
URL;VALUE=URI:https://www.udc.ch/actualites/agenda/votations-populaires-du-9-fevrier-2014/
TRANSP:OPAQUE
END:VEVENT
END:VCALENDAR
