

BEGIN:VCALENDAR
VERSION:2.0
PRODID:-//UDC Suisse //NONSGML Events //EN
CALSCALE:GREGORIAN
X-WR-CALNAME:UDC Suisse
BEGIN:VEVENT
CREATED:20140304T144100Z
UID:7945
DTEND:20130303T000000
DTSTART:20130303T000000
DTSTAMP:20260420T190223Z
LOCATION:
DESCRIPTION:
SUMMARY:Votations populaires du 3 mars 2013
ORGANIZER:
URL;VALUE=URI:https://www.udc.ch/actualites/agenda/votations-populaires-du-3-mars-2013/
TRANSP:OPAQUE
END:VEVENT
END:VCALENDAR
