

BEGIN:VCALENDAR
VERSION:2.0
PRODID:-//UDC Suisse //NONSGML Events //EN
CALSCALE:GREGORIAN
X-WR-CALNAME:UDC Suisse
BEGIN:VEVENT
CREATED:20140304T144000Z
UID:7946
DTEND:20121125T000000
DTSTART:20121125T000000
DTSTAMP:20260421T094151Z
LOCATION:
DESCRIPTION:
SUMMARY:Votations populaires du 25 novembre 2012
ORGANIZER:
URL;VALUE=URI:https://www.udc.ch/actualites/agenda/votations-populaires-du-25-novembre-2012/
TRANSP:OPAQUE
END:VEVENT
END:VCALENDAR
