

BEGIN:VCALENDAR
VERSION:2.0
PRODID:-//UDC Suisse //NONSGML Events //EN
CALSCALE:GREGORIAN
X-WR-CALNAME:UDC Suisse
BEGIN:VEVENT
CREATED:20140304T144000Z
UID:7947
DTEND:20120923T000000
DTSTART:20120923T000000
DTSTAMP:20260420T153239Z
LOCATION:
DESCRIPTION:
SUMMARY:Votations populaires du 23 septembre 2012
ORGANIZER:
URL;VALUE=URI:https://www.udc.ch/actualites/agenda/votations-populaires-du-23-septembre-2012/
TRANSP:OPAQUE
END:VEVENT
END:VCALENDAR
