

BEGIN:VCALENDAR
VERSION:2.0
PRODID:-//UDC Suisse //NONSGML Events //EN
CALSCALE:GREGORIAN
X-WR-CALNAME:UDC Suisse
BEGIN:VEVENT
CREATED:20140304T143900Z
UID:7950
DTEND:20110213T000000
DTSTART:20110213T000000
DTSTAMP:20260420T171916Z
LOCATION:
DESCRIPTION:
SUMMARY:Votations populaires du 13 février 2011
ORGANIZER:
URL;VALUE=URI:https://www.udc.ch/actualites/agenda/votations-populaires-du-13-fevrier-2011/
TRANSP:OPAQUE
END:VEVENT
END:VCALENDAR
