

BEGIN:VCALENDAR
VERSION:2.0
PRODID:-//UDC Suisse //NONSGML Events //EN
CALSCALE:GREGORIAN
X-WR-CALNAME:UDC Suisse
BEGIN:VEVENT
CREATED:20140304T143800Z
UID:7951
DTEND:20101128T000000
DTSTART:20101128T000000
DTSTAMP:20260421T112632Z
LOCATION:
DESCRIPTION:
SUMMARY:Votations populaires du 28 novembre 2010
ORGANIZER:
URL;VALUE=URI:https://www.udc.ch/actualites/agenda/votations-populaires-du-28-novembre-2010/
TRANSP:OPAQUE
END:VEVENT
END:VCALENDAR
