

BEGIN:VCALENDAR
VERSION:2.0
PRODID:-//UDC Suisse //NONSGML Events //EN
CALSCALE:GREGORIAN
X-WR-CALNAME:UDC Suisse
BEGIN:VEVENT
CREATED:20140304T143800Z
UID:7952
DTEND:20100926T000000
DTSTART:20100926T000000
DTSTAMP:20260420T171523Z
LOCATION:
DESCRIPTION:
SUMMARY:Votations populaires du 26 septembre 2010
ORGANIZER:
URL;VALUE=URI:https://www.udc.ch/actualites/agenda/votations-populaires-du-26-septembre-2010/
TRANSP:OPAQUE
END:VEVENT
END:VCALENDAR
