

BEGIN:VCALENDAR
VERSION:2.0
PRODID:-//UDC Suisse //NONSGML Events //EN
CALSCALE:GREGORIAN
X-WR-CALNAME:UDC Suisse
BEGIN:VEVENT
CREATED:20140304T143700Z
UID:7955
DTEND:20090927T000000
DTSTART:20090927T000000
DTSTAMP:20260420T190127Z
LOCATION:
DESCRIPTION:
SUMMARY:Votations populaires du 27 septembre 2009
ORGANIZER:
URL;VALUE=URI:https://www.udc.ch/actualites/agenda/votations-populaires-du-27-septembre-2009/
TRANSP:OPAQUE
END:VEVENT
END:VCALENDAR
