

BEGIN:VCALENDAR
VERSION:2.0
PRODID:-//UDC Suisse //NONSGML Events //EN
CALSCALE:GREGORIAN
X-WR-CALNAME:UDC Suisse
BEGIN:VEVENT
CREATED:20140304T143600Z
UID:7956
DTEND:20090517T000000
DTSTART:20090517T000000
DTSTAMP:20260420T171926Z
LOCATION:
DESCRIPTION:
SUMMARY:Votations populaires du 17 mai 2009
ORGANIZER:
URL;VALUE=URI:https://www.udc.ch/actualites/agenda/votations-populaires-du-17-mai-2009/
TRANSP:OPAQUE
END:VEVENT
END:VCALENDAR
