

BEGIN:VCALENDAR
VERSION:2.0
PRODID:-//UDC Suisse //NONSGML Events //EN
CALSCALE:GREGORIAN
X-WR-CALNAME:UDC Suisse
BEGIN:VEVENT
CREATED:20140304T143500Z
UID:7961
DTEND:20070617T000000
DTSTART:20070617T000000
DTSTAMP:20260420T190132Z
LOCATION:
DESCRIPTION:
SUMMARY:Votations populaires du 17 juin 2007
ORGANIZER:
URL;VALUE=URI:https://www.udc.ch/actualites/agenda/votations-populaires-du-17-juin-2007/
TRANSP:OPAQUE
END:VEVENT
END:VCALENDAR
