

BEGIN:VCALENDAR
VERSION:2.0
PRODID:-//UDC Suisse //NONSGML Events //EN
CALSCALE:GREGORIAN
X-WR-CALNAME:UDC Suisse
BEGIN:VEVENT
CREATED:20140304T143400Z
UID:7963
DTEND:20061126T000000
DTSTART:20061126T000000
DTSTAMP:20260421T042233Z
LOCATION:
DESCRIPTION:
SUMMARY:Votations populaires du 26 novembre 2006
ORGANIZER:
URL;VALUE=URI:https://www.udc.ch/actualites/agenda/votations-populaires-du-26-novembre-2006/
TRANSP:OPAQUE
END:VEVENT
END:VCALENDAR
