

BEGIN:VCALENDAR
VERSION:2.0
PRODID:-//UDC Suisse //NONSGML Events //EN
CALSCALE:GREGORIAN
X-WR-CALNAME:UDC Suisse
BEGIN:VEVENT
CREATED:20140304T143300Z
UID:7964
DTEND:20060924T000000
DTSTART:20060924T000000
DTSTAMP:20260420T171236Z
LOCATION:
DESCRIPTION:
SUMMARY:Votations populaires du 24 septembre 2006
ORGANIZER:
URL;VALUE=URI:https://www.udc.ch/actualites/agenda/votations-populaires-du-24-septembre-2006/
TRANSP:OPAQUE
END:VEVENT
END:VCALENDAR
