

BEGIN:VCALENDAR
VERSION:2.0
PRODID:-//UDC Suisse //NONSGML Events //EN
CALSCALE:GREGORIAN
X-WR-CALNAME:UDC Suisse
BEGIN:VEVENT
CREATED:20140304T143200Z
UID:7967
DTEND:20050925T000000
DTSTART:20050925T000000
DTSTAMP:20260421T023624Z
LOCATION:
DESCRIPTION:
SUMMARY:Votations populaires du 25 septembre 2005
ORGANIZER:
URL;VALUE=URI:https://www.udc.ch/actualites/agenda/votations-populaires-du-25-septembre-2005/
TRANSP:OPAQUE
END:VEVENT
END:VCALENDAR
