

BEGIN:VCALENDAR
VERSION:2.0
PRODID:-//UDC Suisse //NONSGML Events //EN
CALSCALE:GREGORIAN
X-WR-CALNAME:UDC Suisse
BEGIN:VEVENT
CREATED:20140304T143100Z
UID:7968
DTEND:20050605T000000
DTSTART:20050605T000000
DTSTAMP:20260421T003902Z
LOCATION:
DESCRIPTION:
SUMMARY:Votations populaires du 5 juin 2005
ORGANIZER:
URL;VALUE=URI:https://www.udc.ch/actualites/agenda/votations-populaires-du-5-juin-2005/
TRANSP:OPAQUE
END:VEVENT
END:VCALENDAR
