

BEGIN:VCALENDAR
VERSION:2.0
PRODID:-//UDC Suisse //NONSGML Events //EN
CALSCALE:GREGORIAN
X-WR-CALNAME:UDC Suisse
BEGIN:VEVENT
CREATED:20140304T143100Z
UID:7969
DTEND:20041128T000000
DTSTART:20041128T000000
DTSTAMP:20260420T205536Z
LOCATION:
DESCRIPTION:
SUMMARY:Votations populaires du 28 novembre 2004
ORGANIZER:
URL;VALUE=URI:https://www.udc.ch/actualites/agenda/votations-populaires-du-28-novembre-2004/
TRANSP:OPAQUE
END:VEVENT
END:VCALENDAR
