

BEGIN:VCALENDAR
VERSION:2.0
PRODID:-//UDC Suisse //NONSGML Events //EN
CALSCALE:GREGORIAN
X-WR-CALNAME:UDC Suisse
BEGIN:VEVENT
CREATED:20140331T131802Z
UID:7973
DTEND:20111023T000000
DTSTART:20111023T000000
DTSTAMP:20260421T060820Z
LOCATION:
DESCRIPTION:
SUMMARY:Elections fédérales 2011
ORGANIZER:
URL;VALUE=URI:https://www.udc.ch/actualites/agenda/elections-federales-2011/
TRANSP:OPAQUE
END:VEVENT
END:VCALENDAR
