

BEGIN:VCALENDAR
VERSION:2.0
PRODID:-//UDC Suisse //NONSGML Events //EN
CALSCALE:GREGORIAN
X-WR-CALNAME:UDC Suisse
BEGIN:VEVENT
CREATED:20140508T063545Z
UID:7974
DTEND:20130909T000000
DTSTART:20130909T000000
DTSTAMP:20260420T202333Z
LOCATION:
DESCRIPTION:
SUMMARY:Session d&rsquo\;automne 2013\, Palais du Parlament\, Berne
ORGANIZER:
URL;VALUE=URI:https://www.udc.ch/actualites/agenda/session-dautomne-2013-palais-du-parlament-berne/
TRANSP:OPAQUE
END:VEVENT
END:VCALENDAR
