

BEGIN:VCALENDAR
VERSION:2.0
PRODID:-//UDC Suisse //NONSGML Events //EN
CALSCALE:GREGORIAN
X-WR-CALNAME:UDC Suisse
BEGIN:VEVENT
CREATED:20140619T142800Z
UID:7975
DTEND:20140701T000000
DTSTART:20140701T000000
DTSTAMP:20260420T225313Z
LOCATION:Château de Payerne\, salle Cluny
DESCRIPTION:Quand: mardi 1er juillet 2014, 20h00 O&ugrave;:  Normal 0 21 false fal
SUMMARY:Conseillers nationaux Parmelin Guy\, Grin Jean-Pierre et Veillon Pierre-François
ORGANIZER:
URL;VALUE=URI:https://www.udc.ch/actualites/agenda/conseillers-nationaux-parmelin-guy-grin-jean-pierre-et-veillon-pierre-francois/
TRANSP:OPAQUE
END:VEVENT
END:VCALENDAR
