

BEGIN:VCALENDAR
VERSION:2.0
PRODID:-//UDC Suisse //NONSGML Events //EN
CALSCALE:GREGORIAN
X-WR-CALNAME:UDC Suisse
BEGIN:VEVENT
CREATED:20140213T095100Z
UID:7978
DTEND:20140823T150000
DTSTART:20140823T000000
DTSTAMP:20260420T171712Z
LOCATION:
DESCRIPTION:Gestion ind&eacute;pendante de l'immigration Assembl&eacute;e des d&ea
SUMMARY:Assemblée des délégués « Gestion indépendante de l&rsquo\;immigration » à Unterägeri (ZG)
ORGANIZER:
URL;VALUE=URI:https://www.udc.ch/actualites/agenda/assemblee-des-delegues-gestion-independante-de-limmigration-a-unterageri-zg/
TRANSP:OPAQUE
END:VEVENT
END:VCALENDAR
