

BEGIN:VCALENDAR
VERSION:2.0
PRODID:-//UDC Suisse //NONSGML Events //EN
CALSCALE:GREGORIAN
X-WR-CALNAME:UDC Suisse
BEGIN:VEVENT
CREATED:20140819T125800Z
UID:7979
DTEND:20140928T000000
DTSTART:20140928T000000
DTSTAMP:20260420T190227Z
LOCATION:
DESCRIPTION:
SUMMARY:Votation populaire du 28 septembre 2014
ORGANIZER:
URL;VALUE=URI:https://www.udc.ch/actualites/agenda/votation-populaire-du-28-septembre-2014/
TRANSP:OPAQUE
END:VEVENT
END:VCALENDAR
