

BEGIN:VCALENDAR
VERSION:2.0
PRODID:-//UDC Suisse //NONSGML Events //EN
CALSCALE:GREGORIAN
X-WR-CALNAME:UDC Suisse
BEGIN:VEVENT
CREATED:20140213T095300Z
UID:7981
DTEND:20141025T150000
DTSTART:20141025T000000
DTSTAMP:20260421T112637Z
LOCATION:Rothenthurm (SZ)
DESCRIPTION:Rester libre et refuser la servitude &nbsp; Assembl&eacute;e des d&eac
SUMMARY:Assemblée des délégués à Rothenthurm (SZ)
ORGANIZER:
URL;VALUE=URI:https://www.udc.ch/actualites/agenda/assemblee-des-delegues-a-rothenthurm-sz/
TRANSP:OPAQUE
END:VEVENT
END:VCALENDAR
