

BEGIN:VCALENDAR
VERSION:2.0
PRODID:-//UDC Suisse //NONSGML Events //EN
CALSCALE:GREGORIAN
X-WR-CALNAME:UDC Suisse
BEGIN:VEVENT
CREATED:20141006T115713Z
UID:7982
DTEND:20150110T000000
DTSTART:20150109T000000
DTSTAMP:20260420T171518Z
LOCATION:Horn (TG)
DESCRIPTION:
SUMMARY:Séminaire « Bad Horn »
ORGANIZER:
URL;VALUE=URI:https://www.udc.ch/actualites/agenda/seminaire-bad-horn/
TRANSP:OPAQUE
END:VEVENT
END:VCALENDAR
