

BEGIN:VCALENDAR
VERSION:2.0
PRODID:-//UDC Suisse //NONSGML Events //EN
CALSCALE:GREGORIAN
X-WR-CALNAME:UDC Suisse
BEGIN:VEVENT
CREATED:20141006T115758Z
UID:7983
DTEND:20150123T000000
DTSTART:20150123T000000
DTSTAMP:20260421T042238Z
LOCATION:
DESCRIPTION:
SUMMARY:Comité directeur /  Comité central avec secrétaires cantonaux
ORGANIZER:
URL;VALUE=URI:https://www.udc.ch/actualites/agenda/comite-directeur-comite-central-avec-secretaires-cantonaux/
TRANSP:OPAQUE
END:VEVENT
END:VCALENDAR
