

BEGIN:VCALENDAR
VERSION:2.0
PRODID:-//UDC Suisse //NONSGML Events //EN
CALSCALE:GREGORIAN
X-WR-CALNAME:UDC Suisse
BEGIN:VEVENT
CREATED:20141006T115935Z
UID:7984
DTEND:20150220T000000
DTSTART:20150220T000000
DTSTAMP:20260421T003847Z
LOCATION:
DESCRIPTION:
SUMMARY:Comité du groupe / Séance du groupe
ORGANIZER:
URL;VALUE=URI:https://www.udc.ch/actualites/agenda/comite-du-groupe-seance-du-groupe/
TRANSP:OPAQUE
END:VEVENT
END:VCALENDAR
