

BEGIN:VCALENDAR
VERSION:2.0
PRODID:-//UDC Suisse //NONSGML Events //EN
CALSCALE:GREGORIAN
X-WR-CALNAME:UDC Suisse
BEGIN:VEVENT
CREATED:20141006T120500Z
UID:7990
DTEND:20150320T000000
DTSTART:20150302T000000
DTSTAMP:20260420T190345Z
LOCATION:Berne
DESCRIPTION:
SUMMARY:Session de printemps
ORGANIZER:
URL;VALUE=URI:https://www.udc.ch/actualites/agenda/session-de-printemps/
TRANSP:OPAQUE
END:VEVENT
END:VCALENDAR
