

BEGIN:VCALENDAR
VERSION:2.0
PRODID:-//UDC Suisse //NONSGML Events //EN
CALSCALE:GREGORIAN
X-WR-CALNAME:UDC Suisse
BEGIN:VEVENT
CREATED:20141006T120707Z
UID:7991
DTEND:20150308T000000
DTSTART:20150308T000000
DTSTAMP:20260420T171906Z
LOCATION:
DESCRIPTION:
SUMMARY:Votations fédérales
ORGANIZER:
URL;VALUE=URI:https://www.udc.ch/actualites/agenda/votations-federales/
TRANSP:OPAQUE
END:VEVENT
END:VCALENDAR
