

BEGIN:VCALENDAR
VERSION:2.0
PRODID:-//UDC Suisse //NONSGML Events //EN
CALSCALE:GREGORIAN
X-WR-CALNAME:UDC Suisse
BEGIN:VEVENT
CREATED:20141006T120855Z
UID:7994
DTEND:20150316T000000
DTSTART:20150316T000000
DTSTAMP:20260420T202502Z
LOCATION:Berne
DESCRIPTION:
SUMMARY:Rencontre avec les juges fédéraux
ORGANIZER:
URL;VALUE=URI:https://www.udc.ch/actualites/agenda/rencontre-avec-les-juges-federaux/
TRANSP:OPAQUE
END:VEVENT
END:VCALENDAR
