

BEGIN:VCALENDAR
VERSION:2.0
PRODID:-//UDC Suisse //NONSGML Events //EN
CALSCALE:GREGORIAN
X-WR-CALNAME:UDC Suisse
BEGIN:VEVENT
CREATED:20141006T121223Z
UID:8001
DTEND:20150509T000000
DTSTART:20150508T000000
DTSTAMP:20260421T094148Z
LOCATION:
DESCRIPTION:
SUMMARY:Conférence des présidents\, présidents de groupe et secrétaires cantonaux
ORGANIZER:
URL;VALUE=URI:https://www.udc.ch/actualites/agenda/conference-des-presidents-presidents-de-groupe-et-secretaires-cantonaux/
TRANSP:OPAQUE
END:VEVENT
END:VCALENDAR
