

BEGIN:VCALENDAR
VERSION:2.0
PRODID:-//UDC Suisse //NONSGML Events //EN
CALSCALE:GREGORIAN
X-WR-CALNAME:UDC Suisse
BEGIN:VEVENT
CREATED:20141006T121245Z
UID:8002
DTEND:20150522T000000
DTSTART:20150522T000000
DTSTAMP:20260421T003734Z
LOCATION:
DESCRIPTION:
SUMMARY:Comité du groupe / Séance du groupe
ORGANIZER:
URL;VALUE=URI:https://www.udc.ch/actualites/agenda/comite-du-groupe-seance-du-groupe-4/
TRANSP:OPAQUE
END:VEVENT
END:VCALENDAR
