

BEGIN:VCALENDAR
VERSION:2.0
PRODID:-//UDC Suisse //NONSGML Events //EN
CALSCALE:GREGORIAN
X-WR-CALNAME:UDC Suisse
BEGIN:VEVENT
CREATED:20141006T121339Z
UID:8004
DTEND:20150619T000000
DTSTART:20150601T000000
DTSTAMP:20260421T080150Z
LOCATION:Berne
DESCRIPTION:
SUMMARY:Session d’été
ORGANIZER:
URL;VALUE=URI:https://www.udc.ch/actualites/agenda/session-dete/
TRANSP:OPAQUE
END:VEVENT
END:VCALENDAR
