

BEGIN:VCALENDAR
VERSION:2.0
PRODID:-//UDC Suisse //NONSGML Events //EN
CALSCALE:GREGORIAN
X-WR-CALNAME:UDC Suisse
BEGIN:VEVENT
CREATED:20141006T121603Z
UID:8007
DTEND:20150614T000000
DTSTART:20150614T000000
DTSTAMP:20260421T003740Z
LOCATION:
DESCRIPTION:
SUMMARY:Votations fédérales
ORGANIZER:
URL;VALUE=URI:https://www.udc.ch/actualites/agenda/votations-federales-2/
TRANSP:OPAQUE
END:VEVENT
END:VCALENDAR
