

BEGIN:VCALENDAR
VERSION:2.0
PRODID:-//UDC Suisse //NONSGML Events //EN
CALSCALE:GREGORIAN
X-WR-CALNAME:UDC Suisse
BEGIN:VEVENT
CREATED:20141006T121746Z
UID:8011
DTEND:20150814T000000
DTSTART:20150814T000000
DTSTAMP:20260421T004545Z
LOCATION:Genève
DESCRIPTION:
SUMMARY:AG UDC International
ORGANIZER:
URL;VALUE=URI:https://www.udc.ch/actualites/agenda/ag-udc-international/
TRANSP:OPAQUE
END:VEVENT
END:VCALENDAR
