

BEGIN:VCALENDAR
VERSION:2.0
PRODID:-//UDC Suisse //NONSGML Events //EN
CALSCALE:GREGORIAN
X-WR-CALNAME:UDC Suisse
BEGIN:VEVENT
CREATED:20141006T121842Z
UID:8013
DTEND:20150821T000000
DTSTART:20150821T000000
DTSTAMP:20260420T185224Z
LOCATION:
DESCRIPTION:
SUMMARY:Comité directeur /  Comité central avec secrétaires cantonaux
ORGANIZER:
URL;VALUE=URI:https://www.udc.ch/actualites/agenda/comite-directeur-comite-central-avec-secretaires-cantonaux-5/
TRANSP:OPAQUE
END:VEVENT
END:VCALENDAR
