

BEGIN:VCALENDAR
VERSION:2.0
PRODID:-//UDC Suisse //NONSGML Events //EN
CALSCALE:GREGORIAN
X-WR-CALNAME:UDC Suisse
BEGIN:VEVENT
CREATED:20141006T121933Z
UID:8015
DTEND:20150828T000000
DTSTART:20150828T000000
DTSTAMP:20260420T171940Z
LOCATION:
DESCRIPTION:
SUMMARY:Comité du groupe / Séance du groupe
ORGANIZER:
URL;VALUE=URI:https://www.udc.ch/actualites/agenda/comite-du-groupe-seance-du-groupe-7/
TRANSP:OPAQUE
END:VEVENT
END:VCALENDAR
