

BEGIN:VCALENDAR
VERSION:2.0
PRODID:-//UDC Suisse //NONSGML Events //EN
CALSCALE:GREGORIAN
X-WR-CALNAME:UDC Suisse
BEGIN:VEVENT
CREATED:20141006T122019Z
UID:8017
DTEND:20150925T000000
DTSTART:20150907T000000
DTSTAMP:20260420T193604Z
LOCATION:
DESCRIPTION:
SUMMARY:Session d&rsquo\;automne
ORGANIZER:
URL;VALUE=URI:https://www.udc.ch/actualites/agenda/session-dautomne/
TRANSP:OPAQUE
END:VEVENT
END:VCALENDAR
