

BEGIN:VCALENDAR
VERSION:2.0
PRODID:-//UDC Suisse //NONSGML Events //EN
CALSCALE:GREGORIAN
X-WR-CALNAME:UDC Suisse
BEGIN:VEVENT
CREATED:20141006T122313Z
UID:8022
DTEND:20151018T000000
DTSTART:20151018T000000
DTSTAMP:20260420T171722Z
LOCATION:
DESCRIPTION:
SUMMARY:Élections fédérales
ORGANIZER:
URL;VALUE=URI:https://www.udc.ch/actualites/agenda/elections-federales/
TRANSP:OPAQUE
END:VEVENT
END:VCALENDAR
