

BEGIN:VCALENDAR
VERSION:2.0
PRODID:-//UDC Suisse //NONSGML Events //EN
CALSCALE:GREGORIAN
X-WR-CALNAME:UDC Suisse
BEGIN:VEVENT
CREATED:20141006T122359Z
UID:8024
DTEND:20151031T000000
DTSTART:20151031T000000
DTSTAMP:20260420T153129Z
LOCATION:
DESCRIPTION:
SUMMARY:Assemblée des délégués
ORGANIZER:
URL;VALUE=URI:https://www.udc.ch/actualites/agenda/assemblee-des-delegues-8/
TRANSP:OPAQUE
END:VEVENT
END:VCALENDAR
