

BEGIN:VCALENDAR
VERSION:2.0
PRODID:-//UDC Suisse //NONSGML Events //EN
CALSCALE:GREGORIAN
X-WR-CALNAME:UDC Suisse
BEGIN:VEVENT
CREATED:20141006T122514Z
UID:8027
DTEND:20151129T000000
DTSTART:20151129T000000
DTSTAMP:20260420T171732Z
LOCATION:
DESCRIPTION:
SUMMARY:Votations fédérales
ORGANIZER:
URL;VALUE=URI:https://www.udc.ch/actualites/agenda/votations-federales-3/
TRANSP:OPAQUE
END:VEVENT
END:VCALENDAR
