

BEGIN:VCALENDAR
VERSION:2.0
PRODID:-//UDC Suisse //NONSGML Events //EN
CALSCALE:GREGORIAN
X-WR-CALNAME:UDC Suisse
BEGIN:VEVENT
CREATED:20141006T122757Z
UID:8031
DTEND:20151209T000000
DTSTART:20151209T000000
DTSTAMP:20260420T171533Z
LOCATION:Berne
DESCRIPTION:
SUMMARY:Repas du groupe
ORGANIZER:
URL;VALUE=URI:https://www.udc.ch/actualites/agenda/repas-du-groupe/
TRANSP:OPAQUE
END:VEVENT
END:VCALENDAR
