

BEGIN:VCALENDAR
VERSION:2.0
PRODID:-//UDC Suisse //NONSGML Events //EN
CALSCALE:GREGORIAN
X-WR-CALNAME:UDC Suisse
BEGIN:VEVENT
CREATED:20141006T122819Z
UID:8032
DTEND:20151215T000000
DTSTART:20151215T000000
DTSTAMP:20260421T003826Z
LOCATION:Berne
DESCRIPTION:
SUMMARY:ev. séance du groupe
ORGANIZER:
URL;VALUE=URI:https://www.udc.ch/actualites/agenda/ev-seance-du-groupe-4/
TRANSP:OPAQUE
END:VEVENT
END:VCALENDAR
