

BEGIN:VCALENDAR
VERSION:2.0
PRODID:-//UDC Suisse //NONSGML Events //EN
CALSCALE:GREGORIAN
X-WR-CALNAME:UDC Suisse
BEGIN:VEVENT
CREATED:20150105T080900Z
UID:8034
DTEND:20150308T000000
DTSTART:20150308T000000
DTSTAMP:20260420T225214Z
LOCATION:
DESCRIPTION:
SUMMARY:Votations populaires du 8 mars 2015
ORGANIZER:
URL;VALUE=URI:https://www.udc.ch/actualites/agenda/votations-populaires-du-8-mars-2015/
TRANSP:OPAQUE
END:VEVENT
END:VCALENDAR
