

BEGIN:VCALENDAR
VERSION:2.0
PRODID:-//UDC Suisse //NONSGML Events //EN
CALSCALE:GREGORIAN
X-WR-CALNAME:UDC Suisse
BEGIN:VEVENT
CREATED:20150414T063600Z
UID:8035
DTEND:20150614T000000
DTSTART:20150614T000000
DTSTAMP:20260420T171453Z
LOCATION:
DESCRIPTION:
SUMMARY:Votations populaires du 14 juin 2015
ORGANIZER:
URL;VALUE=URI:https://www.udc.ch/actualites/agenda/votations-populaires-du-14-juin-2015/
TRANSP:OPAQUE
END:VEVENT
END:VCALENDAR
