

BEGIN:VCALENDAR
VERSION:2.0
PRODID:-//UDC Suisse //NONSGML Events //EN
CALSCALE:GREGORIAN
X-WR-CALNAME:UDC Suisse
BEGIN:VEVENT
CREATED:20150827T123200Z
UID:8039
DTEND:20150828T200000
DTSTART:20150828T000000
DTSTAMP:20260420T153229Z
LOCATION:
DESCRIPTION:Ueli Maurer, Guy Parmelin, Adrian Amstutz, Céline Amaudruz, Toni Bru
SUMMARY:L‘UDC proche de vous !
ORGANIZER:
URL;VALUE=URI:https://www.udc.ch/actualites/agenda/ludc-proche-de-vous/
TRANSP:OPAQUE
END:VEVENT
END:VCALENDAR
