

BEGIN:VCALENDAR
VERSION:2.0
PRODID:-//UDC Suisse //NONSGML Events //EN
CALSCALE:GREGORIAN
X-WR-CALNAME:UDC Suisse
BEGIN:VEVENT
CREATED:20151110T072113Z
UID:8041
DTEND:20160122T000000
DTSTART:20160122T000000
DTSTAMP:20260421T023258Z
LOCATION:
DESCRIPTION:
SUMMARY:Comité directeur / Comité central avec secrétaires cantonaux
ORGANIZER:
URL;VALUE=URI:https://www.udc.ch/actualites/agenda/comite-directeur-comite-central-avec-secretaires-cantonaux-7/
TRANSP:OPAQUE
END:VEVENT
END:VCALENDAR
