

BEGIN:VCALENDAR
VERSION:2.0
PRODID:-//UDC Suisse //NONSGML Events //EN
CALSCALE:GREGORIAN
X-WR-CALNAME:UDC Suisse
BEGIN:VEVENT
CREATED:20151110T072428Z
UID:8045
DTEND:20160228T000000
DTSTART:20160228T000000
DTSTAMP:20260421T003956Z
LOCATION:
DESCRIPTION:
SUMMARY:Votations fédérales
ORGANIZER:
URL;VALUE=URI:https://www.udc.ch/actualites/agenda/votations-federales-4/
TRANSP:OPAQUE
END:VEVENT
END:VCALENDAR
