

BEGIN:VCALENDAR
VERSION:2.0
PRODID:-//UDC Suisse //NONSGML Events //EN
CALSCALE:GREGORIAN
X-WR-CALNAME:UDC Suisse
BEGIN:VEVENT
CREATED:20151110T072511Z
UID:8046
DTEND:20160318T000000
DTSTART:20160229T000000
DTSTAMP:20260420T133859Z
LOCATION:Berne
DESCRIPTION:
SUMMARY:Séance de printemps
ORGANIZER:
URL;VALUE=URI:https://www.udc.ch/actualites/agenda/seance-de-printemps/
TRANSP:OPAQUE
END:VEVENT
END:VCALENDAR
