

BEGIN:VCALENDAR
VERSION:2.0
PRODID:-//UDC Suisse //NONSGML Events //EN
CALSCALE:GREGORIAN
X-WR-CALNAME:UDC Suisse
BEGIN:VEVENT
CREATED:20151110T072738Z
UID:8049
DTEND:20160308T000000
DTSTART:20160308T000000
DTSTAMP:20260421T023638Z
LOCATION:Berne
DESCRIPTION:
SUMMARY:Rencontre avec les présidents de groupe cantonaux
ORGANIZER:
URL;VALUE=URI:https://www.udc.ch/actualites/agenda/rencontre-avec-les-presidents-de-groupe-cantonaux-2/
TRANSP:OPAQUE
END:VEVENT
END:VCALENDAR
