

BEGIN:VCALENDAR
VERSION:2.0
PRODID:-//UDC Suisse //NONSGML Events //EN
CALSCALE:GREGORIAN
X-WR-CALNAME:UDC Suisse
BEGIN:VEVENT
CREATED:20151110T073103Z
UID:8053
DTEND:20160425T000000
DTSTART:20160425T000000
DTSTAMP:20260421T003706Z
LOCATION:
DESCRIPTION:
SUMMARY:ev. Comité du groupe / Séance du groupe (session spéciale)
ORGANIZER:
URL;VALUE=URI:https://www.udc.ch/actualites/agenda/ev-comite-du-groupe-seance-du-groupe-session-speciale-2/
TRANSP:OPAQUE
END:VEVENT
END:VCALENDAR
