

BEGIN:VCALENDAR
VERSION:2.0
PRODID:-//UDC Suisse //NONSGML Events //EN
CALSCALE:GREGORIAN
X-WR-CALNAME:UDC Suisse
BEGIN:VEVENT
CREATED:20151110T073323Z
UID:8056
DTEND:20160521T000000
DTSTART:20160521T000000
DTSTAMP:20260420T171737Z
LOCATION:
DESCRIPTION:
SUMMARY:Séance du groupe
ORGANIZER:
URL;VALUE=URI:https://www.udc.ch/actualites/agenda/seance-du-groupe-6/
TRANSP:OPAQUE
END:VEVENT
END:VCALENDAR
