

BEGIN:VCALENDAR
VERSION:2.0
PRODID:-//UDC Suisse //NONSGML Events //EN
CALSCALE:GREGORIAN
X-WR-CALNAME:UDC Suisse
BEGIN:VEVENT
CREATED:20151110T073655Z
UID:8061
DTEND:20160608T000000
DTSTART:20160608T000000
DTSTAMP:20260421T023608Z
LOCATION:
DESCRIPTION:
SUMMARY:Excursion du groupe
ORGANIZER:
URL;VALUE=URI:https://www.udc.ch/actualites/agenda/excursion-du-groupe-2/
TRANSP:OPAQUE
END:VEVENT
END:VCALENDAR
